BEGIN:VCALENDAR
VERSION:2.0
PRODID:-//enqelab.info - ECPv6.15.20//NONSGML v1.0//EN
CALSCALE:GREGORIAN
METHOD:PUBLISH
X-ORIGINAL-URL:https://enqelab.info
X-WR-CALDESC:Events for enqelab.info
REFRESH-INTERVAL;VALUE=DURATION:PT1H
X-Robots-Tag:noindex
X-PUBLISHED-TTL:PT1H
BEGIN:VTIMEZONE
TZID:UTC
BEGIN:STANDARD
TZOFFSETFROM:+0000
TZOFFSETTO:+0000
TZNAME:UTC
DTSTART:20220101T000000
END:STANDARD
END:VTIMEZONE
BEGIN:VEVENT
DTSTART;TZID=UTC:20240915T000000
DTEND;TZID=UTC:20240915T235959
DTSTAMP:20260424T110516
CREATED:20240914T114414Z
LAST-MODIFIED:20240915T092142Z
UID:15673-1726358400-1726444799@enqelab.info
SUMMARY:دومین سالگرد ژینا (مهسا) امینی
DESCRIPTION:در آستانه دومین سالگرد قتل حکومتی #ژیناامینی و شروع جنبش #زنزندگی_آزادی و خیزش آزادی‌خواهانه مردم ایران گروه‌های مختلفی بیانیه یا فراخوان منتشر کردند. \n\n\n\nجهت مطالعه این بیانیه‌ها یا فراخوان‌ها می‌توانید روی لینک مربوطه کلیک کنید. \n\n\n\n-مرکز اجرایی حزب در رابطە دومین سالروز جنبش ژینا (https://kurdistanmedia.com/fa/news/2024/09/49) \n\n\n\n-شیرین عبادی(https://t.me/shirinebadiofficial/20006) \n\n\n\n-شورای هماهنگی تشکل های صنفی فرهنگیان ایران(https://t.me/khabargar/84954) \n\n\n\n-فعالان و مدافعان حقوق زن(https://wriran.com/bayanieh-jonbesh-zanan/) \n\n\n\n-کانون نویسندگان ایران(https://telegra.ph/%D8%A8%DB%8C%D8%A7%D9%86%DB%8C%D9%87-09-14-2) \n\n\n\n-اتحادسراسری کارگران وبازنشستگان ایران(https://t.me/etehadesarasari/43324) \n\n\n\n-سازمان عفو بین الملل(https://t.me/Amnesty_International/2305) \n\n\n\n-کمیته مرکزی سازمان راه کارگر(https://www.akhbar-rooz.com/250609/1403/06/25/)
URL:https://enqelab.info/event/%d8%af%d9%88%d9%85%db%8c%d9%86-%d8%b3%d8%a7%d9%84%da%af%d8%b1%d8%af-%da%98%db%8c%d9%86%d8%a7-%d9%85%d9%87%d8%b3%d8%a7-%d8%a7%d9%85%db%8c%d9%86%db%8c/
CATEGORIES:فراخوان
END:VEVENT
BEGIN:VEVENT
DTSTART;TZID=UTC:20230916T000000
DTEND;TZID=UTC:20230916T235959
DTSTAMP:20260424T110516
CREATED:20230909T144656Z
LAST-MODIFIED:20241005T090431Z
UID:15431-1694822400-1694908799@enqelab.info
SUMMARY:سالگرد ژینا (مهسا) امینی
DESCRIPTION:در آستانه سالگرد قتل حکومتی #ژیناامینی و شروع جنبش #زنزندگی_آزادی و خیزش آزادی‌خواهانه مردم ایران گروه‌های مختلفی بیانیه یا فراخوان منتشر کردند. \n\n\n\nجهت مطالعه این بیانیه‌ها یا فراخوان‌ها می‌توانید روی لینک مربوطه کلیک کنید. \n\n\n\n-فراخوان شش حزب کردستان(https://kurdistanmedia.com/fa/news/2023/09/26) \n\n\n\n-شورای سازماندهی اعتراضات کارگران پیمانی نفت(https://t.me/shoranaft/770) \n\n\n\n-فعالین و تشکل‌های رنگین‌کمانی(https://wriran.com/tashakol-ranginkamaniha/) \n\n\n\n-فعالین جنبش زنان و دیگر جنبشهای اعتراضی(https://wriran.com/bayanieh25shahrivar/) \n\n\n\n-کمیته‌های انقلابی(https://kolbarnews.com/%D8%A8%DB%8C%D8%A7%D9%86%DB%8C%D9%87%DB%8C-%DA%A9%D9%85%DB%8C%D8%AA%D9%87%D9%87%D8%A7%DB%8C-%D8%A7%D9%86%D9%82%D9%84%D8%A7%D8%A8%DB%8C-%D8%AF%D8%B1%D8%A8%D8%A7%D8%B1%D9%87/) \n\n\n\n-اتحاد سراسری بازنشستگان(https://t.me/etehadesarasari/36728) \n\n\n\n-کانون نویسندگان ایران(https://telegra.ph/%D8%A8%DB%8C%D8%A7%D9%86%DB%8C%D9%87-09-15) \n\n\n\n– دانشجویان دانشگاه‌های سراسر کشور(https://telegra.ph/%D8%A8%DB%8C%D8%A7%D9%86%DB%8C%D9%87%E2%80%8C%DB%8C-%D8%AC%D9%85%D8%B9%DB%8C-%D8%A7%D8%B2-%D8%AF%D8%A7%D9%86%D8%B4%D8%AC%D9%88%DB%8C%D8%A7%D9%86-%D8%AF%D8%A7%D9%86%D8%B4%DA%AF%D8%A7%D9%87%E2%80%8C%D9%87%D8%A7%DB%8C-%D8%B3%D8%B1%D8%A7%D8%B3%D8%B1-%DA%A9%D8%B4%D9%88%D8%B1-%D8%AF%D8%B1-%D8%B3%D8%A7%D9%84%DA%AF%D8%B1%D8%AF-%D9%85%D9%87%D8%A7%D8%B3%D8%A7-%D8%A7%D9%85%DB%8C%D9%86%DB%8C-09-15)
URL:https://enqelab.info/event/%d8%b3%d8%a7%d9%84%da%af%d8%b1%d8%af-%da%98%db%8c%d9%86%d8%a7-%d9%85%d9%87%d8%b3%d8%a7-%d8%a7%d9%85%db%8c%d9%86%db%8c/
CATEGORIES:فراخوان
END:VEVENT
BEGIN:VEVENT
DTSTART;TZID=UTC:20230509T000000
DTEND;TZID=UTC:20230509T235959
DTSTAMP:20260424T110516
CREATED:20230520T102229Z
LAST-MODIFIED:20230520T102232Z
UID:15231-1683590400-1683676799@enqelab.info
SUMMARY:فراخوان تجمع سراسری معلمان در اعتراض به زندانی شدن فرهنگیان
DESCRIPTION:شورای هماهنگی تشکل‌های صنفی فرهنگیان برای تجمع سراسری معلمان در اعتراض به زندانی شدن فرهنگیان، در روز سه‌شنبه ۱۹ اردیبهشت از ساعت ۱۰ تا ۱۲ مقابل مجلس و در شهرستان‌ها مقابل اداره‌های کل آموزش و پرورش فراخوان داد. \n\n\n\nبا قدرت وارد اعتصاب شویمآغاز سال است و موعد استخدام نیروهای جدید پروژه ای در نفت و به روز کردن قراردادهای همکاران شاغل کنونی ما.علیرغم رشد نجومی تورم، پیمانکاران چپاولگر همچنان در اندیشه تحمیل دستمزدهای بسیار ناچیزی هستند و حتی در جاهایی هم که زیر فشار اعتراضات ما به خواست بیست روز کار و ده روز استراحت گردن گذاشته بودند اکنون زیرش زده اند و این مطالبه در بسیاری از کارگاهها اجرایی نشده است از اینرو امسال زودتر از هر سال همکاران وارد اعتصاب شده اند.استارت آنرا همکاران پروژه ای جوشکار در پتروشیمی سلمان فارسی سربندر در بیست و دوم فروردین زدند و در مقابل قلدری پیمانکار با مطالبه افزایش دستمزد بر اساس میزان درخواستی خود دسته جمعی دست به اعتصاب زدند.بعد از آن همکاران ما در پتروپالایش دهلران (دشت عباس) در بیست و ششم فروردین با همین خواست و نوبت کاری ۲۰ روز کار ۱۰ روز استراحت دست به اعتصاب زدند و امروز اول اردیهبشت همکاران در شرکت اکسیر صنعت شاغل در پروژه‌ پالایشگاه آبادان دست به اعتصاب زده و کار را تعطیل کردند.همزمان نیز همکاران ما در شرکت های آبادراهان وسکاف نیز در فاز ۲ پالایشگاه آبادان به اعتصاب پیوستند و محل کارگاه را تخلیه کردند.افزایش ۷۹ درصدی دستمزد ها و بیست روز کار و ده روز تعطیلی جهت داشتن فرصتی برای بودن با خانواده ها در مطالبه فوری ما کارگران پروژه ای در این اعتصابات است و در عین حال ما پیگیر دیگر مطالبات پاسخ نگرفته خود از جمله کوتاه شدن دست پیمانکاران مفتخور، بهبود وضع خوابگاهها و بالابردن استاندارد آنها در حد قابل قبول است، ایمنی محیط کار هستیم.همکاران! امسال اعتصابات ما زودتر آغاز شد برای اینکه گرانی نجومی و بالا رفتن سرسام آور نرخ تورم جای تاملی به ما نداده است.ما اعلام میکینم که تا وقتی به مطالبه مزدی ما و خواست بیست روز کار و ده روز استراحت که نیاز بدنی و اجتماعی ماست پاسخ داده نشود به اعتصابات خود ادامه خواهیم داد.شورای سازماندگی کارگران پیمانی نفت، در راستای اتحاد و همبستگی با نیروهایی که اعتصاب خود را آغاز کرده اند همه همکاران پروژه ای شاغل در سراسر مراکز نفت و گاز و پتروشیمی را به پیوستن به اعتصابات فرا میخواند.همکاران اعتصاب و تجمع دو جزء مکمل هستند ما تجربه دو سال قبل را داریم.برای اینکه صف ما متحد بماند و برای اینکه از بالای سر ما زد و بند نشود باید متحد باشیم. تجربه مجمع عمومی هفشجان در سال گذشته درس و الگوی خوبی برای تدارک اجتماعات مان و اجماع نظر دائمی بر سر چگونگی ادامه اعتصابات مان است.https://t.me/shoranaft
URL:https://enqelab.info/event/%d9%81%d8%b1%d8%a7%d8%ae%d9%88%d8%a7%d9%86-%d8%aa%d8%ac%d9%85%d8%b9-%d8%b3%d8%b1%d8%a7%d8%b3%d8%b1%db%8c-%d9%85%d8%b9%d9%84%d9%85%d8%a7%d9%86-%d8%af%d8%b1-%d8%a7%d8%b9%d8%aa%d8%b1%d8%a7%d8%b6-%d8%a8/
LOCATION:ایران
CATEGORIES:فراخوان
ATTACH;FMTTYPE=image/jpeg:https://enqelab.info/wp-content/uploads/2023/01/21a00d08c9d2f842d08b9a38bd12be041a645709-1920x1080-1.jpg
END:VEVENT
BEGIN:VEVENT
DTSTART;TZID=UTC:20230422T000000
DTEND;TZID=UTC:20230422T235959
DTSTAMP:20260424T110516
CREATED:20230520T101933Z
LAST-MODIFIED:20230520T101938Z
UID:15228-1682121600-1682207999@enqelab.info
SUMMARY:اعتصاب شورای سازماندهی اعتراضات کارگران پیمانی نفت
DESCRIPTION:بیانیه اعتصاب شورای سازماندهی اعتراضات کارگران پیمانی نفت \n\n\n\nبا قدرت وارد اعتصاب شویمآغاز سال است و موعد استخدام نیروهای جدید پروژه ای در نفت و به روز کردن قراردادهای همکاران شاغل کنونی ما.علیرغم رشد نجومی تورم، پیمانکاران چپاولگر همچنان در اندیشه تحمیل دستمزدهای بسیار ناچیزی هستند و حتی در جاهایی هم که زیر فشار اعتراضات ما به خواست بیست روز کار و ده روز استراحت گردن گذاشته بودند اکنون زیرش زده اند و این مطالبه در بسیاری از کارگاهها اجرایی نشده است از اینرو امسال زودتر از هر سال همکاران وارد اعتصاب شده اند.استارت آنرا همکاران پروژه ای جوشکار در پتروشیمی سلمان فارسی سربندر در بیست و دوم فروردین زدند و در مقابل قلدری پیمانکار با مطالبه افزایش دستمزد بر اساس میزان درخواستی خود دسته جمعی دست به اعتصاب زدند.بعد از آن همکاران ما در پتروپالایش دهلران (دشت عباس) در بیست و ششم فروردین با همین خواست و نوبت کاری ۲۰ روز کار ۱۰ روز استراحت دست به اعتصاب زدند و امروز اول اردیهبشت همکاران در شرکت اکسیر صنعت شاغل در پروژه‌ پالایشگاه آبادان دست به اعتصاب زده و کار را تعطیل کردند.همزمان نیز همکاران ما در شرکت های آبادراهان وسکاف نیز در فاز ۲ پالایشگاه آبادان به اعتصاب پیوستند و محل کارگاه را تخلیه کردند.افزایش ۷۹ درصدی دستمزد ها و بیست روز کار و ده روز تعطیلی جهت داشتن فرصتی برای بودن با خانواده ها در مطالبه فوری ما کارگران پروژه ای در این اعتصابات است و در عین حال ما پیگیر دیگر مطالبات پاسخ نگرفته خود از جمله کوتاه شدن دست پیمانکاران مفتخور، بهبود وضع خوابگاهها و بالابردن استاندارد آنها در حد قابل قبول است، ایمنی محیط کار هستیم.همکاران! امسال اعتصابات ما زودتر آغاز شد برای اینکه گرانی نجومی و بالا رفتن سرسام آور نرخ تورم جای تاملی به ما نداده است.ما اعلام میکینم که تا وقتی به مطالبه مزدی ما و خواست بیست روز کار و ده روز استراحت که نیاز بدنی و اجتماعی ماست پاسخ داده نشود به اعتصابات خود ادامه خواهیم داد.شورای سازماندگی کارگران پیمانی نفت، در راستای اتحاد و همبستگی با نیروهایی که اعتصاب خود را آغاز کرده اند همه همکاران پروژه ای شاغل در سراسر مراکز نفت و گاز و پتروشیمی را به پیوستن به اعتصابات فرا میخواند.همکاران اعتصاب و تجمع دو جزء مکمل هستند ما تجربه دو سال قبل را داریم.برای اینکه صف ما متحد بماند و برای اینکه از بالای سر ما زد و بند نشود باید متحد باشیم. تجربه مجمع عمومی هفشجان در سال گذشته درس و الگوی خوبی برای تدارک اجتماعات مان و اجماع نظر دائمی بر سر چگونگی ادامه اعتصابات مان است.https://t.me/shoranaft
URL:https://enqelab.info/event/%d8%a7%d8%b9%d8%aa%d8%b5%d8%a7%d8%a8-%d8%b4%d9%88%d8%b1%d8%a7%db%8c-%d8%b3%d8%a7%d8%b2%d9%85%d8%a7%d9%86%d8%af%d9%87%db%8c-%d8%a7%d8%b9%d8%aa%d8%b1%d8%a7%d8%b6%d8%a7%d8%aa-%da%a9%d8%a7%d8%b1%da%af/
LOCATION:ایران
CATEGORIES:فراخوان
ATTACH;FMTTYPE=image/jpeg:https://enqelab.info/wp-content/uploads/2023/01/21a00d08c9d2f842d08b9a38bd12be041a645709-1920x1080-1.jpg
END:VEVENT
BEGIN:VEVENT
DTSTART;TZID=UTC:20230415T000000
DTEND;TZID=UTC:20230415T235959
DTSTAMP:20260424T110516
CREATED:20230520T101551Z
LAST-MODIFIED:20230520T101555Z
UID:15225-1681516800-1681603199@enqelab.info
SUMMARY:فراخوان برای بی‌حجابی و اعتراض علیه حجاب اجباری
DESCRIPTION:فراخوان دانشجویان سراسر کشور برای بی‌حجابی و اعتراض علیه #حجاب_اجباری!(فراخوان تشکل‌ها، گروه‌ها و جمع‌های دانشجویی مستقل از حکومت)پس از پایان یافتن تعطیلات نوروز و بازگشایی دانشگاه‌ها، جمهوری اسلامی با استفاده از نیروی سرکوب مستقر در دانشگاه‌ها شروع به اجرای طرح موسوم به «تذکر لسانی» برای رعایت حجاب کرده است. جلوگیری از ورود دانشجویان زن به دانشگاه بخاطر عدم رعایت حجاب اجباری، رفتار وحشیانه و حضور نیروهای سرکوبگر در دانشگاه، تفکیک جنسیتی کردن ورودی دانشگاه‌ها برای دانشجویان زن و مرد، نادیده گرفتن حقوق سایر جنسیت‌ها به طور مطلق و سرانجام حضور سنگین نیروهای سرکوبگر در محیط دانشگاه و اطراف دانشگاه، به منظور زیر سوال بردن یکی از اساسی‌ترین حقوق ما دانشجویان، دیگر قابل تحمل نیست. \n\n\n\nاز این رو، ما تشکل‌ها، جمع‌ها و گروه‌های دانشجویی مستقل از حکومت، از دانشجویان سراسر کشور می‌خواهیم؛ دوشادوش یکدیگر، برابر نیروهای سرکوبگر حکومت از جمله حراست و لباس‌شخصی‌ها ایستادگی کرده و همچنین با بی‌حجابی گسترده فردی و جمعی، حجاب اجباری این خاکریز اول حکومت را که در طی انقلاب زن زندگی آزادی فتح کرده ایم حفظ آنرا تثبیت کنیم. \n\n\n\nبنابراین روز شنبه ۲۶ فروردین ۱۴۰۲ در سطح دانشگاه‌ها:با سازماندهی تجمعات اعتراضی و یا پرفورمنس اعتراضی، تحصن و شعارنویسی پاسخ اقدامات سرکوبگرانه حکومت را بدهیم. \n\n\n\n#نه_روسری_نه_توسری_آزادی_و_برابریحکومت زن ستیز نابود باید گرددزنده باد انقلاب زن زندگی آزادی \n\n\n\n✍️ فراخوان دهندگان:– تشکل دانشجویان پیشرو– نهاد دانشجویان آزادی‌خواه دانشگاه خوارزمینهاد آزادی‌خواهان دانشگاه تهران شمال– نهاد آزاد اندیشان جندی‌شاپور– نهاد اتحاد دانشجویان الزهرا– جمعیت دانشجویان آزاد (دانشگاه آزاد سنندج)– اتحاد دانشجویان دانشگاه صنعتی اصفهان– دانشجویان آزاد خوراسگان (دانشگاه آزاد اصفهان)جمع‌هایی از دانشجویان و فعالین:– دانشگاه اصفهان– دانشگاه علوم پزشکی اصفهان– دانشگاه تربیت مدرس– دانشگاه بهشتیمنبع: کانال تلگرامی دانشجویان پیشرو
URL:https://enqelab.info/event/%d9%81%d8%b1%d8%a7%d8%ae%d9%88%d8%a7%d9%86-%d8%a8%d8%b1%d8%a7%db%8c-%d8%a8%db%8c%d8%ad%d8%ac%d8%a7%d8%a8%db%8c-%d9%88-%d8%a7%d8%b9%d8%aa%d8%b1%d8%a7%d8%b6-%d8%b9%d9%84%db%8c%d9%87-%d8%ad%d8%ac%d8%a7/
LOCATION:ایران
CATEGORIES:فراخوان
ATTACH;FMTTYPE=image/jpeg:https://enqelab.info/wp-content/uploads/2023/01/21a00d08c9d2f842d08b9a38bd12be041a645709-1920x1080-1.jpg
END:VEVENT
BEGIN:VEVENT
DTSTART;TZID=UTC:20230316T000000
DTEND;TZID=UTC:20230316T235959
DTSTAMP:20260424T110516
CREATED:20230520T101054Z
LAST-MODIFIED:20230520T101232Z
UID:15218-1678924800-1679011199@enqelab.info
SUMMARY:فراخوان حضور بر مزار شهیدان
DESCRIPTION:فراخوان حضور بر مزار شهیدان \n\n\n\n \n\n\n\n \n\n\n\nلینک خبر فراخوان جوانان کردستان:
URL:https://enqelab.info/event/%d9%81%d8%b1%d8%a7%d8%ae%d9%88%d8%a7%d9%86-%d8%ad%d8%b6%d9%88%d8%b1-%d8%a8%d8%b1-%d9%85%d8%b2%d8%a7%d8%b1-%d8%b4%d9%87%db%8c%d8%af%d8%a7%d9%86/
LOCATION:ایران
CATEGORIES:فراخوان
ATTACH;FMTTYPE=image/jpeg:https://enqelab.info/wp-content/uploads/2023/01/21a00d08c9d2f842d08b9a38bd12be041a645709-1920x1080-1.jpg
END:VEVENT
BEGIN:VEVENT
DTSTART;TZID=UTC:20230307T000000
DTEND;TZID=UTC:20230307T235959
DTSTAMP:20260424T110516
CREATED:20230308T234652Z
LAST-MODIFIED:20230308T234723Z
UID:14454-1678147200-1678233599@enqelab.info
SUMMARY:فراخوان تجمع سراسری معلمان
DESCRIPTION:شورای هماهنگی تشکل های صنفی فرهنگیان ایران و بسیاری از گروهها و مردم در شبکه های مجازی در اعتراض به حملات شیمیایی و مسمویت دانش آموزان در تاریخ 16 اسفند 1401 فراخوان دادند. \n\n\n\n \n\n\n\nلینک خبر در شورای هماهنگی تشکل های صنفی فرهنگیان ایران: \n\n\n\nhttps://t.me/kashowra/15405
URL:https://enqelab.info/event/%d9%81%d8%b1%d8%a7%d8%ae%d9%88%d8%a7%d9%86-%d8%aa%d8%ac%d9%85%d8%b9-%d8%b3%d8%b1%d8%a7%d8%b3%d8%b1%db%8c-%d9%85%d8%b9%d9%84%d9%85%d8%a7%d9%86/
LOCATION:ایران
CATEGORIES:فراخوان
ATTACH;FMTTYPE=image/jpeg:https://enqelab.info/wp-content/uploads/2023/01/21a00d08c9d2f842d08b9a38bd12be041a645709-1920x1080-1.jpg
END:VEVENT
BEGIN:VEVENT
DTSTART;TZID=UTC:20230228T000000
DTEND;TZID=UTC:20230228T235959
DTSTAMP:20260424T110516
CREATED:20230308T234156Z
LAST-MODIFIED:20230520T094704Z
UID:14450-1677542400-1677628799@enqelab.info
SUMMARY:فراخوان تجمع بزرگ بازنشستگان کشوری، لشگری و تامین اجتماعی
DESCRIPTION:شورای هماهنگی تشکل های صنفی فرهنگیان ایران و بسیاری از گروهها و افراد، در اعتراض به وضعیت بازنشستگان برای تاریخ 9 اسفند 1401 فراخوان دادند. \n\n\n\n \n\n\n\nلینک خبر در کانال شورای هماهنگی تشکل های صنفی فرهنگیان ایران: \n\n\n\nhttps://t.me/kashowra/15199
URL:https://enqelab.info/event/%d9%81%d8%b1%d8%a7%d8%ae%d9%88%d8%a7%d9%86-%d9%81%d8%b1%d8%a7%d8%ae%d9%88%d8%a7%d9%86-%d8%aa%d8%ac%d9%85%d8%b9-%d8%a8%d8%b2%d8%b1%da%af-%d8%a8%d8%a7%d8%b2%d9%86%d8%b4%d8%b3%d8%aa%da%af%d8%a7%d9%86/
LOCATION:ایران
CATEGORIES:فراخوان
ATTACH;FMTTYPE=image/jpeg:https://enqelab.info/wp-content/uploads/2023/01/21a00d08c9d2f842d08b9a38bd12be041a645709-1920x1080-1.jpg
END:VEVENT
BEGIN:VEVENT
DTSTART;TZID=UTC:20230216T000000
DTEND;TZID=UTC:20230216T235959
DTSTAMP:20260424T110516
CREATED:20230308T233459Z
LAST-MODIFIED:20230308T233602Z
UID:14445-1676505600-1676591999@enqelab.info
SUMMARY:فراخوان چهلم محمد مهدی کرمی و محمد حسینی
DESCRIPTION:جوانان محلات تهران، علی جوانمردی، علی کریمی و مردم در شبکه های مجازی برای گرامی داشت چهلم دو اعدام شده توسط جمهوری اسلامی، محمد مهدی کرمی و سید محمد حسینی برای 27 بهمن 1401 فراخوان دادند. \n\n\n\n \n\n\n\n \n\n\n\nکانال تلگرامی علی جوانمردی: \n\n\n\nhttps://t.me/javanmardi77/106384
URL:https://enqelab.info/event/%d9%81%d8%b1%d8%a7%d8%ae%d9%88%d8%a7%d9%86-%da%86%d9%87%d9%84%d9%85-%d9%85%d8%ad%d9%85%d8%af-%d9%85%d9%87%d8%af%db%8c-%da%a9%d8%b1%d9%85%db%8c-%d9%88-%d9%85%d8%ad%d9%85%d8%af-%d8%ad%d8%b3%db%8c%d9%86/
LOCATION:ایران
CATEGORIES:فراخوان
ATTACH;FMTTYPE=image/jpeg:https://enqelab.info/wp-content/uploads/2023/03/e510cec0-8ea7-11ed-9a1a-f3662015ae8e.jpg
END:VEVENT
BEGIN:VEVENT
DTSTART;TZID=UTC:20230130T000000
DTEND;TZID=UTC:20230130T235959
DTSTAMP:20260424T110516
CREATED:20230131T072846Z
LAST-MODIFIED:20230131T072850Z
UID:13660-1675036800-1675123199@enqelab.info
SUMMARY:فراخوان جشن سده
DESCRIPTION:جوانان محلات تهران، علی کریمی و مردم در شبکه های مجازی برای گرامی داشت جشن سده در تاریخ ده بهمن 1401 فراخوان دادند. \n\n\n\nگروه جوانان محلات تهران برای برگزاری جشن سده در دهم بهمن‌ماه فراخوان داد. آنها نوشتند: «بیایید با هم به رسم نیاکان با برافروختن آتش در تمام محلات تهران و کل کشور، در آغاز شامگاه دوشنبه جشن سده را برگزار کنیم. اتحاد و همبستگی ملت، توان بازگرداندن مردم به خیابان‌ها را دارد.» \n\n\n\n \n\n\n\nلینک خبر در ایران اینترنشنال: \n\n\n\nhttps://www.iranintl.com/202301284343 \n\n\n\nکانال تلگرامی علی جوانمردی: \n\n\n\nhttps://t.me/javanmardi77/105928 \n\n\n\nکانال تلگرامی بنیاد ستار بهشتی: \n\n\n\nhttps://t.me/SattarFoundation/12955
URL:https://enqelab.info/event/%d9%81%d8%b1%d8%a7%d8%ae%d9%88%d8%a7%d9%86-%d8%ac%d8%b4%d9%86-%d8%b3%d8%af%d9%87/
LOCATION:ایران
CATEGORIES:فراخوان
ATTACH;FMTTYPE=image/jpeg:https://enqelab.info/wp-content/uploads/2023/01/21a00d08c9d2f842d08b9a38bd12be041a645709-1920x1080-1.jpg
END:VEVENT
BEGIN:VEVENT
DTSTART;TZID=UTC:20230127T000000
DTEND;TZID=UTC:20230127T235959
DTSTAMP:20260424T110516
CREATED:20221219T212138Z
LAST-MODIFIED:20221219T212141Z
UID:12465-1674777600-1674863999@enqelab.info
SUMMARY:چهلم محمد حاجی رسول پور
DESCRIPTION:به گزارش سازمان حقوق بشری “هه‌نگاو” محمد حاجی رسول پور زندانی سیاسی ۵۷ ساله کرد اهل بوکان بعد از شکنجه به کما رفته و جانش را در بیمارستان از دست داد. نیروهای امنیتی از دسترسی او به آب آشامیدنی ممانعت کرده‌اند و همین امر موجب کما رفتن و انتقالش به بیمارستان شده است.
URL:https://enqelab.info/event/%da%86%d9%87%d9%84%d9%85-%d9%85%d8%ad%d9%85%d8%af-%d8%ad%d8%a7%d8%ac%db%8c-%d8%b1%d8%b3%d9%88%d9%84-%d9%be%d9%88%d8%b1/
LOCATION:بوکان
CATEGORIES:چهلم
ATTACH;FMTTYPE=image/jpeg:https://enqelab.info/wp-content/uploads/2022/12/محمد-حاجی-رسول-پور.jpg
END:VEVENT
BEGIN:VEVENT
DTSTART;TZID=UTC:20230121T000000
DTEND;TZID=UTC:20230121T235959
DTSTAMP:20260424T110516
CREATED:20221218T182943Z
LAST-MODIFIED:20221219T181953Z
UID:12386-1674259200-1674345599@enqelab.info
SUMMARY:چهلم مجیدرضا رهنورد
DESCRIPTION:
URL:https://enqelab.info/event/%da%86%d9%87%d9%84%d9%85-%d9%85%d8%ac%db%8c%d8%af%d8%b1%d8%b6%d8%a7-%d8%b1%d9%87%d9%86%d9%88%d8%b1%d8%af/
LOCATION:مشهد
CATEGORIES:چهلم
END:VEVENT
BEGIN:VEVENT
DTSTART;TZID=UTC:20230121T000000
DTEND;TZID=UTC:20230121T000000
DTSTAMP:20260424T110516
CREATED:20221218T182942Z
LAST-MODIFIED:20221218T182942Z
UID:12385-1674259200-1674259200@enqelab.info
SUMMARY:چهلم حبیب الله یعقوبی نجیب (براهویی)
DESCRIPTION:
URL:https://enqelab.info/event/%da%86%d9%87%d9%84%d9%85-%d8%ad%d8%a8%db%8c%d8%a8-%d8%a7%d9%84%d9%84%d9%87-%db%8c%d8%b9%d9%82%d9%88%d8%a8%db%8c-%d9%86%d8%ac%db%8c%d8%a8-%d8%a8%d8%b1%d8%a7%d9%87%d9%88%db%8c%db%8c/
CATEGORIES:چهلم
END:VEVENT
BEGIN:VEVENT
DTSTART;TZID=UTC:20230121T000000
DTEND;TZID=UTC:20230121T000000
DTSTAMP:20260424T110516
CREATED:20221218T182930Z
LAST-MODIFIED:20221218T182930Z
UID:12384-1674259200-1674259200@enqelab.info
SUMMARY:چهلم آیدا رستمی
DESCRIPTION:
URL:https://enqelab.info/event/%da%86%d9%87%d9%84%d9%85-%d8%a2%db%8c%d8%af%d8%a7-%d8%b1%d8%b3%d8%aa%d9%85%db%8c/
LOCATION:تهران
CATEGORIES:چهلم
END:VEVENT
BEGIN:VEVENT
DTSTART;TZID=UTC:20230121T000000
DTEND;TZID=UTC:20230121T000000
DTSTAMP:20260424T110516
CREATED:20221218T182928Z
LAST-MODIFIED:20221218T182928Z
UID:12383-1674259200-1674259200@enqelab.info
SUMMARY:چهلم احمد گودرزی
DESCRIPTION:
URL:https://enqelab.info/event/%da%86%d9%87%d9%84%d9%85-%d8%a7%d8%ad%d9%85%d8%af-%da%af%d9%88%d8%af%d8%b1%d8%b2%db%8c/
LOCATION:تهران
CATEGORIES:چهلم
END:VEVENT
BEGIN:VEVENT
DTSTART;TZID=UTC:20230120T000000
DTEND;TZID=UTC:20230120T000000
DTSTAMP:20260424T110516
CREATED:20221218T182928Z
LAST-MODIFIED:20221218T182928Z
UID:12382-1674172800-1674172800@enqelab.info
SUMMARY:چهلم عباس منصوری
DESCRIPTION:
URL:https://enqelab.info/event/%da%86%d9%87%d9%84%d9%85-%d8%b9%d8%a8%d8%a7%d8%b3-%d9%85%d9%86%d8%b5%d9%88%d8%b1%db%8c/
CATEGORIES:چهلم
END:VEVENT
BEGIN:VEVENT
DTSTART;TZID=UTC:20230117T000000
DTEND;TZID=UTC:20230117T000000
DTSTAMP:20260424T110516
CREATED:20221218T182927Z
LAST-MODIFIED:20221218T182927Z
UID:12380-1673913600-1673913600@enqelab.info
SUMMARY:چهلم شاهین مرادی
DESCRIPTION:
URL:https://enqelab.info/event/%da%86%d9%87%d9%84%d9%85-%d8%b4%d8%a7%d9%87%db%8c%d9%86-%d9%85%d8%b1%d8%a7%d8%af%db%8c/
LOCATION:تهران
CATEGORIES:چهلم
END:VEVENT
BEGIN:VEVENT
DTSTART;TZID=UTC:20230117T000000
DTEND;TZID=UTC:20230117T000000
DTSTAMP:20260424T110516
CREATED:20221218T182927Z
LAST-MODIFIED:20221218T182927Z
UID:12381-1673913600-1673913600@enqelab.info
SUMMARY:چهلم محسن شکاری
DESCRIPTION:
URL:https://enqelab.info/event/%da%86%d9%87%d9%84%d9%85-%d9%85%d8%ad%d8%b3%d9%86-%d8%b4%da%a9%d8%a7%d8%b1%db%8c/
LOCATION:تهران
CATEGORIES:چهلم
END:VEVENT
BEGIN:VEVENT
DTSTART;TZID=UTC:20230117T000000
DTEND;TZID=UTC:20230117T000000
DTSTAMP:20260424T110516
CREATED:20221218T182914Z
LAST-MODIFIED:20221218T182914Z
UID:12379-1673913600-1673913600@enqelab.info
SUMMARY:چهلم شادمان احمدی
DESCRIPTION:
URL:https://enqelab.info/event/%da%86%d9%87%d9%84%d9%85-%d8%b4%d8%a7%d8%af%d9%85%d8%a7%d9%86-%d8%a7%d8%ad%d9%85%d8%af%db%8c/
CATEGORIES:چهلم
END:VEVENT
BEGIN:VEVENT
DTSTART;TZID=UTC:20230117T000000
DTEND;TZID=UTC:20230117T000000
DTSTAMP:20260424T110516
CREATED:20221218T182913Z
LAST-MODIFIED:20221218T182913Z
UID:12378-1673913600-1673913600@enqelab.info
SUMMARY:چهلم شهریار عادلی
DESCRIPTION:
URL:https://enqelab.info/event/%da%86%d9%87%d9%84%d9%85-%d8%b4%d9%87%d8%b1%db%8c%d8%a7%d8%b1-%d8%b9%d8%a7%d8%af%d9%84%db%8c/
CATEGORIES:چهلم
END:VEVENT
BEGIN:VEVENT
DTSTART;TZID=UTC:20230116T000000
DTEND;TZID=UTC:20230116T000000
DTSTAMP:20260424T110516
CREATED:20221218T182913Z
LAST-MODIFIED:20221218T182913Z
UID:12377-1673827200-1673827200@enqelab.info
SUMMARY:چهلم فرانک جباری
DESCRIPTION:
URL:https://enqelab.info/event/%da%86%d9%87%d9%84%d9%85-%d9%81%d8%b1%d8%a7%d9%86%da%a9-%d8%ac%d8%a8%d8%a7%d8%b1%db%8c/
LOCATION:تهران
CATEGORIES:چهلم
END:VEVENT
BEGIN:VEVENT
DTSTART;TZID=UTC:20230116T000000
DTEND;TZID=UTC:20230116T000000
DTSTAMP:20260424T110516
CREATED:20221218T182912Z
LAST-MODIFIED:20221218T182912Z
UID:12375-1673827200-1673827200@enqelab.info
SUMMARY:چهلم علیرضا خوشکار بیاتی
DESCRIPTION:
URL:https://enqelab.info/event/%da%86%d9%87%d9%84%d9%85-%d8%b9%d9%84%db%8c%d8%b1%d8%b6%d8%a7-%d8%ae%d9%88%d8%b4%da%a9%d8%a7%d8%b1-%d8%a8%db%8c%d8%a7%d8%aa%db%8c/
LOCATION:تهران
CATEGORIES:چهلم
END:VEVENT
BEGIN:VEVENT
DTSTART;TZID=UTC:20230116T000000
DTEND;TZID=UTC:20230116T000000
DTSTAMP:20260424T110516
CREATED:20221218T182912Z
LAST-MODIFIED:20221218T182912Z
UID:12376-1673827200-1673827200@enqelab.info
SUMMARY:چهلم یونس فاضل بیگی
DESCRIPTION:
URL:https://enqelab.info/event/%da%86%d9%87%d9%84%d9%85-%db%8c%d9%88%d9%86%d8%b3-%d9%81%d8%a7%d8%b6%d9%84-%d8%a8%db%8c%da%af%db%8c/
CATEGORIES:چهلم
END:VEVENT
BEGIN:VEVENT
DTSTART;TZID=UTC:20230116T000000
DTEND;TZID=UTC:20230116T000000
DTSTAMP:20260424T110516
CREATED:20221218T182859Z
LAST-MODIFIED:20221218T182859Z
UID:12374-1673827200-1673827200@enqelab.info
SUMMARY:چهلم هومن عبداللهی
DESCRIPTION:
URL:https://enqelab.info/event/%da%86%d9%87%d9%84%d9%85-%d9%87%d9%88%d9%85%d9%86-%d8%b9%d8%a8%d8%af%d8%a7%d9%84%d9%84%d9%87%db%8c/
LOCATION:سنندج
CATEGORIES:چهلم
END:VEVENT
BEGIN:VEVENT
DTSTART;TZID=UTC:20230115T000000
DTEND;TZID=UTC:20230115T000000
DTSTAMP:20260424T110516
CREATED:20221218T182858Z
LAST-MODIFIED:20221218T182858Z
UID:12373-1673740800-1673740800@enqelab.info
SUMMARY:چهلم سپهر اعظمی
DESCRIPTION:
URL:https://enqelab.info/event/%da%86%d9%87%d9%84%d9%85-%d8%b3%d9%be%d9%87%d8%b1-%d8%a7%d8%b9%d8%b8%d9%85%db%8c/
CATEGORIES:چهلم
END:VEVENT
BEGIN:VEVENT
DTSTART;TZID=UTC:20230113T000000
DTEND;TZID=UTC:20230113T000000
DTSTAMP:20260424T110516
CREATED:20221218T182858Z
LAST-MODIFIED:20221218T182858Z
UID:12371-1673568000-1673568000@enqelab.info
SUMMARY:چهلم مهدی عیدیوندی
DESCRIPTION:
URL:https://enqelab.info/event/%da%86%d9%87%d9%84%d9%85-%d9%85%d9%87%d8%af%db%8c-%d8%b9%db%8c%d8%af%db%8c%d9%88%d9%86%d8%af%db%8c/
CATEGORIES:چهلم
END:VEVENT
BEGIN:VEVENT
DTSTART;TZID=UTC:20230113T000000
DTEND;TZID=UTC:20230113T000000
DTSTAMP:20260424T110516
CREATED:20221218T182858Z
LAST-MODIFIED:20221218T182858Z
UID:12372-1673568000-1673568000@enqelab.info
SUMMARY:چهلم زهرا جلیلیان
DESCRIPTION:
URL:https://enqelab.info/event/%da%86%d9%87%d9%84%d9%85-%d8%b2%d9%87%d8%b1%d8%a7-%d8%ac%d9%84%db%8c%d9%84%db%8c%d8%a7%d9%86/
LOCATION:تهران
CATEGORIES:چهلم
END:VEVENT
BEGIN:VEVENT
DTSTART;TZID=UTC:20230113T000000
DTEND;TZID=UTC:20230113T000000
DTSTAMP:20260424T110516
CREATED:20221218T182857Z
LAST-MODIFIED:20221218T182857Z
UID:12370-1673568000-1673568000@enqelab.info
SUMMARY:چهلم رضا دهبوید
DESCRIPTION:
URL:https://enqelab.info/event/%da%86%d9%87%d9%84%d9%85-%d8%b1%d8%b6%d8%a7-%d8%af%d9%87%d8%a8%d9%88%db%8c%d8%af/
CATEGORIES:چهلم
END:VEVENT
BEGIN:VEVENT
DTSTART;TZID=UTC:20230110T000000
DTEND;TZID=UTC:20230110T000000
DTSTAMP:20260424T110516
CREATED:20221218T182843Z
LAST-MODIFIED:20221218T182843Z
UID:12369-1673308800-1673308800@enqelab.info
SUMMARY:چهلم روح الله عابدینی
DESCRIPTION:
URL:https://enqelab.info/event/%da%86%d9%87%d9%84%d9%85-%d8%b1%d9%88%d8%ad-%d8%a7%d9%84%d9%84%d9%87-%d8%b9%d8%a7%d8%a8%d8%af%db%8c%d9%86%db%8c/
LOCATION:تهران
CATEGORIES:چهلم
END:VEVENT
BEGIN:VEVENT
DTSTART;TZID=UTC:20230109T000000
DTEND;TZID=UTC:20230109T000000
DTSTAMP:20260424T110516
CREATED:20221218T182843Z
LAST-MODIFIED:20221218T182843Z
UID:12367-1673222400-1673222400@enqelab.info
SUMMARY:چهلم احسان قاسمی فر
DESCRIPTION:
URL:https://enqelab.info/event/%da%86%d9%87%d9%84%d9%85-%d8%a7%d8%ad%d8%b3%d8%a7%d9%86-%d9%82%d8%a7%d8%b3%d9%85%db%8c-%d9%81%d8%b1/
CATEGORIES:چهلم
END:VEVENT
END:VCALENDAR